BEGIN:VCALENDAR
VERSION:2.0
PRODID:-//Plone.org//NONSGML plone.app.event//EN
X-WR-TIMEZONE:Brazil/East
BEGIN:VEVENT
SUMMARY:Reunião Ordinária
DTSTART;TZID=Brazil/East;VALUE=DATE-TIME:20171121T190000
DTEND;TZID=Brazil/East;VALUE=DATE-TIME:20171121T210000
DTSTAMP;VALUE=DATE-TIME:20260423T094830Z
UID:8760fb70d7bd45a9b83ee363dd07d3bd@saojoaonepomuceno.mg.leg.br
CREATED;VALUE=DATE-TIME:20171031T105916Z
LAST-MODIFIED;VALUE=DATE-TIME:20171121T121526Z
LOCATION:Plenário da Câmara Municipal
URL:https://www.saojoaonepomuceno.mg.leg.br/institucional/eventos/reuniao-
 ordinaria-9
END:VEVENT
BEGIN:VTIMEZONE
TZID:Brazil/East
X-LIC-LOCATION:Brazil/East
BEGIN:DAYLIGHT
DTSTART;VALUE=DATE-TIME:20171015T010000
TZNAME:BRST
TZOFFSETFROM:-0300
TZOFFSETTO:-0200
END:DAYLIGHT
END:VTIMEZONE
END:VCALENDAR
