BEGIN:VCALENDAR
VERSION:2.0
PRODID:-//Plone.org//NONSGML plone.app.event//EN
X-WR-TIMEZONE:Brazil/East
BEGIN:VEVENT
SUMMARY:Reunião Ordinária
DTSTART;TZID=Brazil/East;VALUE=DATE-TIME:20220705T190000
DTEND;TZID=Brazil/East;VALUE=DATE-TIME:20220705T210000
DTSTAMP;VALUE=DATE-TIME:20260425T193547Z
UID:c48170c569f64df8b7fda4569f56f02b@www.saojoaonepomuceno.mg.leg.br
CREATED;VALUE=DATE-TIME:20220705T173603Z
LAST-MODIFIED;VALUE=DATE-TIME:20220705T173606Z
LOCATION:Plenário da Câmara Municipal
URL:https://www.saojoaonepomuceno.mg.leg.br/institucional/eventos/reuniao-
 ordinaria-79
END:VEVENT
BEGIN:VTIMEZONE
TZID:Brazil/East
X-LIC-LOCATION:Brazil/East
BEGIN:STANDARD
DTSTART;VALUE=DATE-TIME:20220219T230000
TZNAME:BRT
TZOFFSETFROM:-0200
TZOFFSETTO:-0300
END:STANDARD
END:VTIMEZONE
END:VCALENDAR
