BEGIN:VCALENDAR
VERSION:2.0
PRODID:-//Plone.org//NONSGML plone.app.event//EN
X-WR-TIMEZONE:Brazil/East
BEGIN:VEVENT
SUMMARY:Reunião Ordinária
DTSTART;TZID=Brazil/East;VALUE=DATE-TIME:20220503T190000
DTEND;TZID=Brazil/East;VALUE=DATE-TIME:20220503T210000
DTSTAMP;VALUE=DATE-TIME:20260425T143647Z
UID:c77dd1efe56948e691f5f7d460f17ac6@www.saojoaonepomuceno.mg.leg.br
CREATED;VALUE=DATE-TIME:20220503T165109Z
LAST-MODIFIED;VALUE=DATE-TIME:20220503T165112Z
LOCATION:Plenário da Câmara Municipal
URL:https://www.saojoaonepomuceno.mg.leg.br/institucional/eventos/reuniao-
 ordinaria-76
END:VEVENT
BEGIN:VTIMEZONE
TZID:Brazil/East
X-LIC-LOCATION:Brazil/East
BEGIN:STANDARD
DTSTART;VALUE=DATE-TIME:20220219T230000
TZNAME:BRT
TZOFFSETFROM:-0200
TZOFFSETTO:-0300
END:STANDARD
END:VTIMEZONE
END:VCALENDAR
