BEGIN:VCALENDAR
VERSION:2.0
PRODID:-//Plone.org//NONSGML plone.app.event//EN
X-WR-TIMEZONE:Brazil/East
BEGIN:VEVENT
SUMMARY:Reunião Ordinária
DTSTART;TZID=Brazil/East;VALUE=DATE-TIME:20171024T190000
DTEND;TZID=Brazil/East;VALUE=DATE-TIME:20171024T210000
DTSTAMP;VALUE=DATE-TIME:20260425T114924Z
UID:04be44c54f7848b7889b7b5297bd837a@saojoaonepomuceno.mg.leg.br
CREATED;VALUE=DATE-TIME:20170922T122003Z
LAST-MODIFIED;VALUE=DATE-TIME:20171024T113234Z
URL:https://www.saojoaonepomuceno.mg.leg.br/institucional/eventos/reuniao-
 ordinaria-7
END:VEVENT
BEGIN:VTIMEZONE
TZID:Brazil/East
X-LIC-LOCATION:Brazil/East
BEGIN:DAYLIGHT
DTSTART;VALUE=DATE-TIME:20171015T010000
TZNAME:BRST
TZOFFSETFROM:-0300
TZOFFSETTO:-0200
END:DAYLIGHT
END:VTIMEZONE
END:VCALENDAR
