BEGIN:VCALENDAR
VERSION:2.0
PRODID:-//Plone.org//NONSGML plone.app.event//EN
X-WR-TIMEZONE:Brazil/East
BEGIN:VEVENT
SUMMARY:Reunião Ordinária
DTSTART;TZID=Brazil/East;VALUE=DATE-TIME:20210622T190000
DTEND;TZID=Brazil/East;VALUE=DATE-TIME:20210622T210000
DTSTAMP;VALUE=DATE-TIME:20260423T081708Z
UID:d01304e04c35420cb0b2ba725bb1e9d1@saojoaonepomuceno.mg.leg.br
CREATED;VALUE=DATE-TIME:20210622T130622Z
LAST-MODIFIED;VALUE=DATE-TIME:20210622T130631Z
URL:https://www.saojoaonepomuceno.mg.leg.br/institucional/eventos/reuniao-
 ordinaria-62
END:VEVENT
BEGIN:VTIMEZONE
TZID:Brazil/East
X-LIC-LOCATION:Brazil/East
BEGIN:STANDARD
DTSTART;VALUE=DATE-TIME:20210220T230000
TZNAME:BRT
TZOFFSETFROM:-0200
TZOFFSETTO:-0300
END:STANDARD
END:VTIMEZONE
END:VCALENDAR
