BEGIN:VCALENDAR
VERSION:2.0
PRODID:-//Plone.org//NONSGML plone.app.event//EN
X-WR-TIMEZONE:Brazil/East
BEGIN:VEVENT
SUMMARY:Reunião Ordinária
DTSTART;TZID=Brazil/East;VALUE=DATE-TIME:20210601T190000
DTEND;TZID=Brazil/East;VALUE=DATE-TIME:20210601T210000
DTSTAMP;VALUE=DATE-TIME:20260423T081708Z
UID:ec43827423064c83a60dafdfd294a10b@saojoaonepomuceno.mg.leg.br
CREATED;VALUE=DATE-TIME:20210601T172134Z
LAST-MODIFIED;VALUE=DATE-TIME:20210601T172629Z
URL:https://www.saojoaonepomuceno.mg.leg.br/institucional/eventos/reuniao-
 ordinaria-61
END:VEVENT
BEGIN:VTIMEZONE
TZID:Brazil/East
X-LIC-LOCATION:Brazil/East
BEGIN:STANDARD
DTSTART;VALUE=DATE-TIME:20210220T230000
TZNAME:BRT
TZOFFSETFROM:-0200
TZOFFSETTO:-0300
END:STANDARD
END:VTIMEZONE
END:VCALENDAR
