BEGIN:VCALENDAR
VERSION:2.0
PRODID:-//Plone.org//NONSGML plone.app.event//EN
X-WR-TIMEZONE:Brazil/East
BEGIN:VEVENT
SUMMARY:Reunião Ordinária
DTSTART;TZID=Brazil/East;VALUE=DATE-TIME:20210518T190000
DTEND;TZID=Brazil/East;VALUE=DATE-TIME:20210518T210000
DTSTAMP;VALUE=DATE-TIME:20260423T130700Z
UID:fb8c44b40e8c4e9da092f405202f1e95@saojoaonepomuceno.mg.leg.br
CREATED;VALUE=DATE-TIME:20210518T163848Z
LAST-MODIFIED;VALUE=DATE-TIME:20210518T163855Z
LOCATION:Plenário da Câmara Municipal
URL:https://www.saojoaonepomuceno.mg.leg.br/institucional/eventos/reuniao-
 ordinaria-60
END:VEVENT
BEGIN:VTIMEZONE
TZID:Brazil/East
X-LIC-LOCATION:Brazil/East
BEGIN:STANDARD
DTSTART;VALUE=DATE-TIME:20210220T230000
TZNAME:BRT
TZOFFSETFROM:-0200
TZOFFSETTO:-0300
END:STANDARD
END:VTIMEZONE
END:VCALENDAR
