BEGIN:VCALENDAR
VERSION:2.0
PRODID:-//Plone.org//NONSGML plone.app.event//EN
X-WR-TIMEZONE:Brazil/East
BEGIN:VEVENT
SUMMARY:Reunião Ordinária
DTSTART;TZID=Brazil/East;VALUE=DATE-TIME:20210406T180000
DTEND;TZID=Brazil/East;VALUE=DATE-TIME:20210406T200000
DTSTAMP;VALUE=DATE-TIME:20260423T114340Z
UID:280b37c8e51d4bc0a1c52f741e302290@saojoaonepomuceno.mg.leg.br
CREATED;VALUE=DATE-TIME:20210406T153348Z
LAST-MODIFIED;VALUE=DATE-TIME:20210406T153355Z
LOCATION:Videoconferência
URL:https://www.saojoaonepomuceno.mg.leg.br/institucional/eventos/reuniao-
 ordinaria-58
END:VEVENT
BEGIN:VTIMEZONE
TZID:Brazil/East
X-LIC-LOCATION:Brazil/East
BEGIN:STANDARD
DTSTART;VALUE=DATE-TIME:20210220T230000
TZNAME:BRT
TZOFFSETFROM:-0200
TZOFFSETTO:-0300
END:STANDARD
END:VTIMEZONE
END:VCALENDAR
