BEGIN:VCALENDAR
VERSION:2.0
PRODID:-//Plone.org//NONSGML plone.app.event//EN
X-WR-TIMEZONE:Brazil/East
BEGIN:VEVENT
SUMMARY:Reunião Ordinária
DTSTART;TZID=Brazil/East;VALUE=DATE-TIME:20200804T190000
DTEND;TZID=Brazil/East;VALUE=DATE-TIME:20200804T210000
DTSTAMP;VALUE=DATE-TIME:20260421T104147Z
UID:142ff9e19f6c4d1383386bd82d3e7be7@saojoaonepomuceno.mg.leg.br
CREATED;VALUE=DATE-TIME:20200804T171512Z
LAST-MODIFIED;VALUE=DATE-TIME:20200804T171522Z
LOCATION:Virtual
URL:https://www.saojoaonepomuceno.mg.leg.br/institucional/eventos/reuniao-
 ordinaria-53
END:VEVENT
BEGIN:VTIMEZONE
TZID:Brazil/East
X-LIC-LOCATION:Brazil/East
BEGIN:STANDARD
DTSTART;VALUE=DATE-TIME:20200215T230000
TZNAME:BRT
TZOFFSETFROM:-0200
TZOFFSETTO:-0300
END:STANDARD
END:VTIMEZONE
END:VCALENDAR
