BEGIN:VCALENDAR
VERSION:2.0
PRODID:-//Plone.org//NONSGML plone.app.event//EN
X-WR-TIMEZONE:Brazil/East
BEGIN:VEVENT
SUMMARY:Reunião Ordinária
DTSTART;TZID=Brazil/East;VALUE=DATE-TIME:20200204T190000
DTEND;TZID=Brazil/East;VALUE=DATE-TIME:20200204T210000
DTSTAMP;VALUE=DATE-TIME:20260421T020351Z
UID:a8112231f133472fb646f21718f1067d@saojoaonepomuceno.mg.leg.br
CREATED;VALUE=DATE-TIME:20200203T181542Z
LAST-MODIFIED;VALUE=DATE-TIME:20200204T122858Z
URL:https://www.saojoaonepomuceno.mg.leg.br/institucional/eventos/reuniao-
 ordinaria-48
END:VEVENT
BEGIN:VTIMEZONE
TZID:Brazil/East
X-LIC-LOCATION:Brazil/East
BEGIN:DAYLIGHT
DTSTART;VALUE=DATE-TIME:20191020T010000
TZNAME:BRST
TZOFFSETFROM:-0300
TZOFFSETTO:-0200
END:DAYLIGHT
END:VTIMEZONE
END:VCALENDAR
