BEGIN:VCALENDAR
VERSION:2.0
PRODID:-//Plone.org//NONSGML plone.app.event//EN
X-WR-TIMEZONE:Brazil/East
BEGIN:VEVENT
SUMMARY:Reunião Ordinária
DTSTART;TZID=Brazil/East;VALUE=DATE-TIME:20191105T190000
DTEND;TZID=Brazil/East;VALUE=DATE-TIME:20191105T210000
DTSTAMP;VALUE=DATE-TIME:20260421T063448Z
UID:3cdebaf4927649c7937a9a5d6950ae17@saojoaonepomuceno.mg.leg.br
CREATED;VALUE=DATE-TIME:20191105T120026Z
LAST-MODIFIED;VALUE=DATE-TIME:20191105T120031Z
URL:https://www.saojoaonepomuceno.mg.leg.br/institucional/eventos/reuniao-
 ordinaria-47
END:VEVENT
BEGIN:VTIMEZONE
TZID:Brazil/East
X-LIC-LOCATION:Brazil/East
BEGIN:DAYLIGHT
DTSTART;VALUE=DATE-TIME:20191020T010000
TZNAME:BRST
TZOFFSETFROM:-0300
TZOFFSETTO:-0200
END:DAYLIGHT
END:VTIMEZONE
END:VCALENDAR
