BEGIN:VCALENDAR
VERSION:2.0
PRODID:-//Plone.org//NONSGML plone.app.event//EN
X-WR-TIMEZONE:Brazil/East
BEGIN:VEVENT
SUMMARY:Reunião Ordinária
DTSTART;TZID=Brazil/East;VALUE=DATE-TIME:20190917T190000
DTEND;TZID=Brazil/East;VALUE=DATE-TIME:20190917T210000
DTSTAMP;VALUE=DATE-TIME:20260421T062412Z
UID:e966110152c849909df0fd1692c02145@www.saojoaonepomuceno.mg.leg.br
CREATED;VALUE=DATE-TIME:20190917T120644Z
LAST-MODIFIED;VALUE=DATE-TIME:20190917T120649Z
LOCATION:Sala de Sessões
URL:https://www.saojoaonepomuceno.mg.leg.br/institucional/eventos/reuniao-
 ordinaria-46
END:VEVENT
BEGIN:VTIMEZONE
TZID:Brazil/East
X-LIC-LOCATION:Brazil/East
BEGIN:STANDARD
DTSTART;VALUE=DATE-TIME:20190216T230000
TZNAME:BRT
TZOFFSETFROM:-0200
TZOFFSETTO:-0300
END:STANDARD
END:VTIMEZONE
END:VCALENDAR
