BEGIN:VCALENDAR
VERSION:2.0
PRODID:-//Plone.org//NONSGML plone.app.event//EN
X-WR-TIMEZONE:Brazil/East
BEGIN:VEVENT
SUMMARY:Reunião Ordinária
DTSTART;TZID=Brazil/East;VALUE=DATE-TIME:20170905T190000
DTEND;TZID=Brazil/East;VALUE=DATE-TIME:20170905T220000
DTSTAMP;VALUE=DATE-TIME:20260423T125742Z
UID:fe5760fa7d494f6981d1f60ebd1f4405@saojoaonepomuceno.mg.leg.br
CREATED;VALUE=DATE-TIME:20170824T120328Z
LAST-MODIFIED;VALUE=DATE-TIME:20170905T161833Z
URL:https://www.saojoaonepomuceno.mg.leg.br/institucional/eventos/reuniao-
 ordinaria-4
END:VEVENT
BEGIN:VTIMEZONE
TZID:Brazil/East
X-LIC-LOCATION:Brazil/East
BEGIN:STANDARD
DTSTART;VALUE=DATE-TIME:20170218T230000
TZNAME:BRT
TZOFFSETFROM:-0200
TZOFFSETTO:-0300
END:STANDARD
END:VTIMEZONE
END:VCALENDAR
