BEGIN:VCALENDAR
VERSION:2.0
PRODID:-//Plone.org//NONSGML plone.app.event//EN
X-WR-TIMEZONE:Brazil/East
BEGIN:VEVENT
SUMMARY:Reunião Ordinária
DTSTART;TZID=Brazil/East;VALUE=DATE-TIME:20190311T190000
DTSTAMP;VALUE=DATE-TIME:20260421T152655Z
UID:6257cf9228c44872bb2f2cb27a50dd09@saojoaonepomuceno.mg.leg.br
CREATED;VALUE=DATE-TIME:20190311T115124Z
LAST-MODIFIED;VALUE=DATE-TIME:20190311T115146Z
URL:https://www.saojoaonepomuceno.mg.leg.br/institucional/eventos/reuniao-
 ordinaria-36
END:VEVENT
BEGIN:VTIMEZONE
TZID:Brazil/East
X-LIC-LOCATION:Brazil/East
BEGIN:STANDARD
DTSTART;VALUE=DATE-TIME:20190216T230000
TZNAME:BRT
TZOFFSETFROM:-0200
TZOFFSETTO:-0300
END:STANDARD
END:VTIMEZONE
END:VCALENDAR
