BEGIN:VCALENDAR
VERSION:2.0
PRODID:-//Plone.org//NONSGML plone.app.event//EN
X-WR-TIMEZONE:Brazil/East
BEGIN:VEVENT
SUMMARY:Reunião Ordinária
DTSTART;TZID=Brazil/East;VALUE=DATE-TIME:20190219T190000
DTEND;TZID=Brazil/East;VALUE=DATE-TIME:20190219T210000
DTSTAMP;VALUE=DATE-TIME:20260421T190353Z
UID:e2c8d986e3694389adfce3b3ab0e6f47@saojoaonepomuceno.mg.leg.br
CREATED;VALUE=DATE-TIME:20190219T135340Z
LAST-MODIFIED;VALUE=DATE-TIME:20190219T135348Z
URL:https://www.saojoaonepomuceno.mg.leg.br/institucional/eventos/reuniao-
 ordinaria-35
END:VEVENT
BEGIN:VTIMEZONE
TZID:Brazil/East
X-LIC-LOCATION:Brazil/East
BEGIN:STANDARD
DTSTART;VALUE=DATE-TIME:20190216T230000
TZNAME:BRT
TZOFFSETFROM:-0200
TZOFFSETTO:-0300
END:STANDARD
END:VTIMEZONE
END:VCALENDAR
