BEGIN:VCALENDAR
VERSION:2.0
PRODID:-//Plone.org//NONSGML plone.app.event//EN
X-WR-TIMEZONE:Brazil/East
BEGIN:VEVENT
SUMMARY:Reunião Ordinária
DTSTART;TZID=Brazil/East;VALUE=DATE-TIME:20190205T190000
DTEND;TZID=Brazil/East;VALUE=DATE-TIME:20190205T210000
DTSTAMP;VALUE=DATE-TIME:20260421T190332Z
UID:015bd9d1b9434637b3b5779e838f5c39@saojoaonepomuceno.mg.leg.br
CREATED;VALUE=DATE-TIME:20190205T103959Z
LAST-MODIFIED;VALUE=DATE-TIME:20190205T104006Z
LOCATION:Sala das Sessões
URL:https://www.saojoaonepomuceno.mg.leg.br/institucional/eventos/reuniao-
 ordinaria-34
END:VEVENT
BEGIN:VTIMEZONE
TZID:Brazil/East
X-LIC-LOCATION:Brazil/East
BEGIN:DAYLIGHT
DTSTART;VALUE=DATE-TIME:20181021T010000
TZNAME:BRST
TZOFFSETFROM:-0300
TZOFFSETTO:-0200
END:DAYLIGHT
END:VTIMEZONE
END:VCALENDAR
