BEGIN:VCALENDAR
VERSION:2.0
PRODID:-//Plone.org//NONSGML plone.app.event//EN
X-WR-TIMEZONE:Brazil/East
BEGIN:VEVENT
SUMMARY:Reunião Ordinária
DTSTART;TZID=Brazil/East;VALUE=DATE-TIME:20190122T190000
DTEND;TZID=Brazil/East;VALUE=DATE-TIME:20190122T210000
DTSTAMP;VALUE=DATE-TIME:20260421T204443Z
UID:62edfb7ff86f447b9e68368346d0bd2d@saojoaonepomuceno.mg.leg.br
CREATED;VALUE=DATE-TIME:20190122T164024Z
LAST-MODIFIED;VALUE=DATE-TIME:20190122T164027Z
LOCATION:Sala das Sessões
URL:https://www.saojoaonepomuceno.mg.leg.br/institucional/eventos/reuniao-
 ordinaria-33
END:VEVENT
BEGIN:VTIMEZONE
TZID:Brazil/East
X-LIC-LOCATION:Brazil/East
BEGIN:DAYLIGHT
DTSTART;VALUE=DATE-TIME:20181021T010000
TZNAME:BRST
TZOFFSETFROM:-0300
TZOFFSETTO:-0200
END:DAYLIGHT
END:VTIMEZONE
END:VCALENDAR
