BEGIN:VCALENDAR
VERSION:2.0
PRODID:-//Plone.org//NONSGML plone.app.event//EN
X-WR-TIMEZONE:Brazil/East
BEGIN:VEVENT
SUMMARY:Reunião Ordinária
DTSTART;TZID=Brazil/East;VALUE=DATE-TIME:20181121T190000
DTEND;TZID=Brazil/East;VALUE=DATE-TIME:20181121T210000
DTSTAMP;VALUE=DATE-TIME:20260422T041405Z
UID:b9840aca91da4540a53bede2683a19c8@saojoaonepomuceno.mg.leg.br
CREATED;VALUE=DATE-TIME:20181023T124453Z
LAST-MODIFIED;VALUE=DATE-TIME:20181121T164129Z
LOCATION:Sala das Sessões
URL:https://www.saojoaonepomuceno.mg.leg.br/institucional/eventos/reuniao-
 ordinaria-31
END:VEVENT
BEGIN:VTIMEZONE
TZID:Brazil/East
X-LIC-LOCATION:Brazil/East
BEGIN:DAYLIGHT
DTSTART;VALUE=DATE-TIME:20181021T010000
TZNAME:BRST
TZOFFSETFROM:-0300
TZOFFSETTO:-0200
END:DAYLIGHT
END:VTIMEZONE
END:VCALENDAR
