BEGIN:VCALENDAR
VERSION:2.0
PRODID:-//Plone.org//NONSGML plone.app.event//EN
X-WR-TIMEZONE:Brazil/East
BEGIN:VEVENT
SUMMARY:Reunião Ordinária
DTSTART;TZID=Brazil/East;VALUE=DATE-TIME:20180918T190000
DTEND;TZID=Brazil/East;VALUE=DATE-TIME:20180918T210000
DTSTAMP;VALUE=DATE-TIME:20260422T065539Z
UID:7efcc9327ef64d998170d7f52f6e6371@saojoaonepomuceno.mg.leg.br
CREATED;VALUE=DATE-TIME:20180904T130843Z
LAST-MODIFIED;VALUE=DATE-TIME:20180918T114423Z
LOCATION:Sala das Sessões
URL:https://www.saojoaonepomuceno.mg.leg.br/institucional/eventos/reuniao-
 ordinaria-27
END:VEVENT
BEGIN:VTIMEZONE
TZID:Brazil/East
X-LIC-LOCATION:Brazil/East
BEGIN:STANDARD
DTSTART;VALUE=DATE-TIME:20180217T230000
TZNAME:BRT
TZOFFSETFROM:-0200
TZOFFSETTO:-0300
END:STANDARD
END:VTIMEZONE
END:VCALENDAR
