BEGIN:VCALENDAR
VERSION:2.0
PRODID:-//Plone.org//NONSGML plone.app.event//EN
X-WR-TIMEZONE:Brazil/East
BEGIN:VEVENT
SUMMARY:Reunião Ordinária
DTSTART;TZID=Brazil/East;VALUE=DATE-TIME:20180703T190000
DTEND;TZID=Brazil/East;VALUE=DATE-TIME:20180703T210000
DTSTAMP;VALUE=DATE-TIME:20260422T063948Z
UID:8ec80925eda64a73a87bb82c36f01999@saojoaonepomuceno.mg.leg.br
CREATED;VALUE=DATE-TIME:20180703T164028Z
LAST-MODIFIED;VALUE=DATE-TIME:20180703T164032Z
LOCATION:Sala das Sessões
URL:https://www.saojoaonepomuceno.mg.leg.br/institucional/eventos/reuniao-
 ordinaria-22
END:VEVENT
BEGIN:VTIMEZONE
TZID:Brazil/East
X-LIC-LOCATION:Brazil/East
BEGIN:STANDARD
DTSTART;VALUE=DATE-TIME:20180217T230000
TZNAME:BRT
TZOFFSETFROM:-0200
TZOFFSETTO:-0300
END:STANDARD
END:VTIMEZONE
END:VCALENDAR
