BEGIN:VCALENDAR
VERSION:2.0
PRODID:-//Plone.org//NONSGML plone.app.event//EN
X-WR-TIMEZONE:Brazil/East
BEGIN:VEVENT
SUMMARY:Reunião Ordinária
DTSTART;TZID=Brazil/East;VALUE=DATE-TIME:20180619T190000
DTEND;TZID=Brazil/East;VALUE=DATE-TIME:20180619T210000
DTSTAMP;VALUE=DATE-TIME:20260422T103839Z
UID:b576f4995b204a8eaa63c49518634d26@saojoaonepomuceno.mg.leg.br
CREATED;VALUE=DATE-TIME:20180528T115158Z
LAST-MODIFIED;VALUE=DATE-TIME:20180619T171230Z
LOCATION:Sala das Sessões
URL:https://www.saojoaonepomuceno.mg.leg.br/institucional/eventos/reuniao-
 ordinaria-21
END:VEVENT
BEGIN:VTIMEZONE
TZID:Brazil/East
X-LIC-LOCATION:Brazil/East
BEGIN:STANDARD
DTSTART;VALUE=DATE-TIME:20180217T230000
TZNAME:BRT
TZOFFSETFROM:-0200
TZOFFSETTO:-0300
END:STANDARD
END:VTIMEZONE
END:VCALENDAR
