BEGIN:VCALENDAR
VERSION:2.0
PRODID:-//Plone.org//NONSGML plone.app.event//EN
X-WR-TIMEZONE:Brazil/East
BEGIN:VEVENT
SUMMARY:Reunião Ordinária
DTSTART;TZID=Brazil/East;VALUE=DATE-TIME:20180417T190000
DTEND;TZID=Brazil/East;VALUE=DATE-TIME:20180417T210000
DTSTAMP;VALUE=DATE-TIME:20260422T103849Z
UID:1a122ac684ec4e49a4e6ac5a8e336d5e@saojoaonepomuceno.mg.leg.br
CREATED;VALUE=DATE-TIME:20180417T120324Z
LAST-MODIFIED;VALUE=DATE-TIME:20180417T120328Z
LOCATION:Sala das Sessões
URL:https://www.saojoaonepomuceno.mg.leg.br/institucional/eventos/reuniao-
 ordinaria-17
END:VEVENT
BEGIN:VTIMEZONE
TZID:Brazil/East
X-LIC-LOCATION:Brazil/East
BEGIN:STANDARD
DTSTART;VALUE=DATE-TIME:20180217T230000
TZNAME:BRT
TZOFFSETFROM:-0200
TZOFFSETTO:-0300
END:STANDARD
END:VTIMEZONE
END:VCALENDAR
