BEGIN:VCALENDAR
VERSION:2.0
PRODID:-//Plone.org//NONSGML plone.app.event//EN
X-WR-TIMEZONE:Brazil/East
BEGIN:VEVENT
SUMMARY:Reunião Ordinária
DTSTART;TZID=Brazil/East;VALUE=DATE-TIME:20180306T190000
DTEND;TZID=Brazil/East;VALUE=DATE-TIME:20180306T210000
DTSTAMP;VALUE=DATE-TIME:20260422T134852Z
UID:b5ff8afc1dd14171a6ebc5e1ba56f638@saojoaonepomuceno.mg.leg.br
CREATED;VALUE=DATE-TIME:20180302T180254Z
LAST-MODIFIED;VALUE=DATE-TIME:20180302T180302Z
LOCATION:Sala das Sessões
URL:https://www.saojoaonepomuceno.mg.leg.br/institucional/eventos/reuniao-
 ordinaria-15
END:VEVENT
BEGIN:VTIMEZONE
TZID:Brazil/East
X-LIC-LOCATION:Brazil/East
BEGIN:STANDARD
DTSTART;VALUE=DATE-TIME:20180217T230000
TZNAME:BRT
TZOFFSETFROM:-0200
TZOFFSETTO:-0300
END:STANDARD
END:VTIMEZONE
END:VCALENDAR
