BEGIN:VCALENDAR
VERSION:2.0
PRODID:-//Plone.org//NONSGML plone.app.event//EN
X-WR-TIMEZONE:Brazil/East
BEGIN:VEVENT
SUMMARY:Reunião Ordinária
DTSTART;TZID=Brazil/East;VALUE=DATE-TIME:20180206T190000
DTEND;TZID=Brazil/East;VALUE=DATE-TIME:20180206T210000
DTSTAMP;VALUE=DATE-TIME:20260425T125344Z
UID:d9a5decbdffd44a387739e3403871dd1@saojoaonepomuceno.mg.leg.br
CREATED;VALUE=DATE-TIME:20180124T120129Z
LAST-MODIFIED;VALUE=DATE-TIME:20180206T124843Z
LOCATION:Sala das Sessões
URL:https://www.saojoaonepomuceno.mg.leg.br/institucional/eventos/reuniao-
 ordinaria-13
END:VEVENT
BEGIN:VTIMEZONE
TZID:Brazil/East
X-LIC-LOCATION:Brazil/East
BEGIN:DAYLIGHT
DTSTART;VALUE=DATE-TIME:20171015T010000
TZNAME:BRST
TZOFFSETFROM:-0300
TZOFFSETTO:-0200
END:DAYLIGHT
END:VTIMEZONE
END:VCALENDAR
