BEGIN:VCALENDAR
VERSION:2.0
PRODID:-//Plone.org//NONSGML plone.app.event//EN
X-WR-TIMEZONE:Brazil/East
BEGIN:VEVENT
SUMMARY:Reunião Extraordinária
DTSTART;TZID=Brazil/East;VALUE=DATE-TIME:20190812T130000
DTEND;TZID=Brazil/East;VALUE=DATE-TIME:20190812T150000
DTSTAMP;VALUE=DATE-TIME:20260421T073532Z
UID:6558029514ce47fe9713b1bd2d6146fc@saojoaonepomuceno.mg.leg.br
CREATED;VALUE=DATE-TIME:20190812T135821Z
LAST-MODIFIED;VALUE=DATE-TIME:20190812T135851Z
URL:https://www.saojoaonepomuceno.mg.leg.br/institucional/eventos/reuniao-
 extraordinaria-8
END:VEVENT
BEGIN:VTIMEZONE
TZID:Brazil/East
X-LIC-LOCATION:Brazil/East
BEGIN:STANDARD
DTSTART;VALUE=DATE-TIME:20190216T230000
TZNAME:BRT
TZOFFSETFROM:-0200
TZOFFSETTO:-0300
END:STANDARD
END:VTIMEZONE
END:VCALENDAR
