BEGIN:VCALENDAR
VERSION:2.0
PRODID:-//Plone.org//NONSGML plone.app.event//EN
X-WR-TIMEZONE:Brazil/East
BEGIN:VEVENT
SUMMARY:Reunião Extraordinária
DTSTART;TZID=Brazil/East;VALUE=DATE-TIME:20171130T190000
DTEND;TZID=Brazil/East;VALUE=DATE-TIME:20171130T200000
DTSTAMP;VALUE=DATE-TIME:20260425T095341Z
UID:0a8c5c84c93b4ba387242d6e13b2db21@www.saojoaonepomuceno.mg.leg.br
CREATED;VALUE=DATE-TIME:20171124T172959Z
LAST-MODIFIED;VALUE=DATE-TIME:20171128T162848Z
LOCATION:Sala das Sessões
URL:https://www.saojoaonepomuceno.mg.leg.br/institucional/eventos/reuniao-
 extraordinaria-3
END:VEVENT
BEGIN:VTIMEZONE
TZID:Brazil/East
X-LIC-LOCATION:Brazil/East
BEGIN:DAYLIGHT
DTSTART;VALUE=DATE-TIME:20171015T010000
TZNAME:BRST
TZOFFSETFROM:-0300
TZOFFSETTO:-0200
END:DAYLIGHT
END:VTIMEZONE
END:VCALENDAR
