BEGIN:VCALENDAR
VERSION:2.0
PRODID:-//Plone.org//NONSGML plone.app.event//EN
X-WR-TIMEZONE:Brazil/East
BEGIN:VEVENT
SUMMARY:Reunião Extraordinária
DTSTART;TZID=Brazil/East;VALUE=DATE-TIME:20250625T140000
DTSTAMP;VALUE=DATE-TIME:20260420T235011Z
UID:e102610e43534fff8c953cf44a08f462@www.saojoaonepomuceno.mg.leg.br
CREATED;VALUE=DATE-TIME:20250625T130537Z
LAST-MODIFIED;VALUE=DATE-TIME:20250625T130540Z
URL:https://www.saojoaonepomuceno.mg.leg.br/institucional/eventos/reuniao-
 extraordinaria-23
END:VEVENT
BEGIN:VTIMEZONE
TZID:Brazil/East
X-LIC-LOCATION:Brazil/East
BEGIN:STANDARD
DTSTART;VALUE=DATE-TIME:20250215T230000
TZNAME:BRT
TZOFFSETFROM:-0200
TZOFFSETTO:-0300
END:STANDARD
END:VTIMEZONE
END:VCALENDAR
