BEGIN:VCALENDAR
VERSION:2.0
PRODID:-//Plone.org//NONSGML plone.app.event//EN
X-WR-TIMEZONE:Brazil/East
BEGIN:VEVENT
SUMMARY:Reunião Extraordinária
DTSTART;TZID=Brazil/East;VALUE=DATE-TIME:20230612T170000
DTEND;TZID=Brazil/East;VALUE=DATE-TIME:20230612T190000
DTSTAMP;VALUE=DATE-TIME:20260425T111954Z
UID:7a8f2bf8b8cc41a1b5a76295193bb2a7@www.saojoaonepomuceno.mg.leg.br
CREATED;VALUE=DATE-TIME:20230612T175823Z
LAST-MODIFIED;VALUE=DATE-TIME:20230612T175826Z
URL:https://www.saojoaonepomuceno.mg.leg.br/institucional/eventos/reuniao-
 extraordinaria-22
END:VEVENT
BEGIN:VTIMEZONE
TZID:Brazil/East
X-LIC-LOCATION:Brazil/East
BEGIN:STANDARD
DTSTART;VALUE=DATE-TIME:20230225T230000
TZNAME:BRT
TZOFFSETFROM:-0200
TZOFFSETTO:-0300
END:STANDARD
END:VTIMEZONE
END:VCALENDAR
