BEGIN:VCALENDAR
VERSION:2.0
PRODID:-//Plone.org//NONSGML plone.app.event//EN
X-WR-TIMEZONE:Brazil/East
BEGIN:VEVENT
SUMMARY:Reunião Extraordinária
DTSTART;TZID=Brazil/East;VALUE=DATE-TIME:20220915T150000
DTEND;TZID=Brazil/East;VALUE=DATE-TIME:20220915T160000
DTSTAMP;VALUE=DATE-TIME:20260425T105743Z
UID:4a36aa6f5c5e4bf5802c5e83c52336ef@www.saojoaonepomuceno.mg.leg.br
CREATED;VALUE=DATE-TIME:20220915T125314Z
LAST-MODIFIED;VALUE=DATE-TIME:20220915T131234Z
LOCATION:Plenário da Câmara Municipal
URL:https://www.saojoaonepomuceno.mg.leg.br/institucional/eventos/reuniao-
 extraordinaria-20
END:VEVENT
BEGIN:VTIMEZONE
TZID:Brazil/East
X-LIC-LOCATION:Brazil/East
BEGIN:STANDARD
DTSTART;VALUE=DATE-TIME:20220219T230000
TZNAME:BRT
TZOFFSETFROM:-0200
TZOFFSETTO:-0300
END:STANDARD
END:VTIMEZONE
END:VCALENDAR
