BEGIN:VCALENDAR
VERSION:2.0
PRODID:-//Plone.org//NONSGML plone.app.event//EN
X-WR-TIMEZONE:Brazil/East
BEGIN:VEVENT
SUMMARY:Reunião Extraordinária
DTSTART;TZID=Brazil/East;VALUE=DATE-TIME:20170925T180000
DTEND;TZID=Brazil/East;VALUE=DATE-TIME:20170925T200000
DTSTAMP;VALUE=DATE-TIME:20260423T094830Z
UID:a70e523629ab45749ae810df61e8ad77@saojoaonepomuceno.mg.leg.br
CREATED;VALUE=DATE-TIME:20170922T170351Z
LAST-MODIFIED;VALUE=DATE-TIME:20170922T170414Z
URL:https://www.saojoaonepomuceno.mg.leg.br/institucional/eventos/reuniao-
 extraordinaria-2
END:VEVENT
BEGIN:VTIMEZONE
TZID:Brazil/East
X-LIC-LOCATION:Brazil/East
BEGIN:STANDARD
DTSTART;VALUE=DATE-TIME:20170218T230000
TZNAME:BRT
TZOFFSETFROM:-0200
TZOFFSETTO:-0300
END:STANDARD
END:VTIMEZONE
END:VCALENDAR
