BEGIN:VCALENDAR
VERSION:2.0
PRODID:-//Plone.org//NONSGML plone.app.event//EN
X-WR-TIMEZONE:Brazil/East
BEGIN:VEVENT
SUMMARY:Reunião Extraordinária
DTSTART;TZID=Brazil/East;VALUE=DATE-TIME:20220513T130000
DTEND;TZID=Brazil/East;VALUE=DATE-TIME:20220513T150000
DTSTAMP;VALUE=DATE-TIME:20260425T095340Z
UID:807ad10b73ad4f2289ae54eb5fe11b71@www.saojoaonepomuceno.mg.leg.br
CREATED;VALUE=DATE-TIME:20220513T112846Z
LAST-MODIFIED;VALUE=DATE-TIME:20220513T112850Z
LOCATION:Plenário da Câmara Municipal
URL:https://www.saojoaonepomuceno.mg.leg.br/institucional/eventos/reuniao-
 extraordinaria-18
END:VEVENT
BEGIN:VTIMEZONE
TZID:Brazil/East
X-LIC-LOCATION:Brazil/East
BEGIN:STANDARD
DTSTART;VALUE=DATE-TIME:20220219T230000
TZNAME:BRT
TZOFFSETFROM:-0200
TZOFFSETTO:-0300
END:STANDARD
END:VTIMEZONE
END:VCALENDAR
