BEGIN:VCALENDAR
VERSION:2.0
PRODID:-//Plone.org//NONSGML plone.app.event//EN
X-WR-TIMEZONE:Brazil/East
BEGIN:VEVENT
SUMMARY:Reunião Extraordinária
DTSTART;TZID=Brazil/East;VALUE=DATE-TIME:20210315T160000
DTEND;TZID=Brazil/East;VALUE=DATE-TIME:20210315T180000
DTSTAMP;VALUE=DATE-TIME:20260423T155525Z
UID:932470be9abb46cc898561acd05d96b9@saojoaonepomuceno.mg.leg.br
CREATED;VALUE=DATE-TIME:20210315T162046Z
LAST-MODIFIED;VALUE=DATE-TIME:20210315T162054Z
URL:https://www.saojoaonepomuceno.mg.leg.br/institucional/eventos/reuniao-
 extraordinaria-11
END:VEVENT
BEGIN:VTIMEZONE
TZID:Brazil/East
X-LIC-LOCATION:Brazil/East
BEGIN:STANDARD
DTSTART;VALUE=DATE-TIME:20210220T230000
TZNAME:BRT
TZOFFSETFROM:-0200
TZOFFSETTO:-0300
END:STANDARD
END:VTIMEZONE
END:VCALENDAR
