BEGIN:VCALENDAR
VERSION:2.0
PRODID:-//Plone.org//NONSGML plone.app.event//EN
X-WR-TIMEZONE:Brazil/East
BEGIN:VEVENT
SUMMARY:Renião Ordinária
DTSTART;TZID=Brazil/East;VALUE=DATE-TIME:20170620T190000
DTEND;TZID=Brazil/East;VALUE=DATE-TIME:20170620T220000
DTSTAMP;VALUE=DATE-TIME:20260423T081708Z
UID:9b6f76488b2d43029de3761641abf7e2@saojoaonepomuceno.mg.leg.br
CREATED;VALUE=DATE-TIME:20170620T134027Z
LAST-MODIFIED;VALUE=DATE-TIME:20170620T134312Z
LOCATION:Sala das Sessões
URL:https://www.saojoaonepomuceno.mg.leg.br/institucional/eventos/reniao-o
 rdinaria
END:VEVENT
BEGIN:VTIMEZONE
TZID:Brazil/East
X-LIC-LOCATION:Brazil/East
BEGIN:STANDARD
DTSTART;VALUE=DATE-TIME:20170218T230000
TZNAME:BRT
TZOFFSETFROM:-0200
TZOFFSETTO:-0300
END:STANDARD
END:VTIMEZONE
END:VCALENDAR
