BEGIN:VCALENDAR
VERSION:2.0
PRODID:-//Plone.org//NONSGML plone.app.event//EN
X-WR-TIMEZONE:Brazil/East
BEGIN:VEVENT
SUMMARY:Reunião Ordinária
DTSTART;VALUE=DATE:20181218
DTEND;VALUE=DATE:20181219
DTSTAMP;VALUE=DATE-TIME:20260422T055448Z
UID:4b931c36e18f49348bea5024174c499d@saojoaonepomuceno.mg.leg.br
CREATED;VALUE=DATE-TIME:20181218T110517Z
LAST-MODIFIED;VALUE=DATE-TIME:20181218T120731Z
LOCATION:Sala das Sessões
URL:https://www.saojoaonepomuceno.mg.leg.br/institucional/eventos/re
END:VEVENT
END:VCALENDAR
