BEGIN:VCALENDAR
VERSION:2.0
PRODID:-//Plone.org//NONSGML plone.app.event//EN
X-WR-TIMEZONE:Brazil/East
BEGIN:VEVENT
SUMMARY:Reunião Ordinária
DTSTART;TZID=Brazil/East;VALUE=DATE-TIME:20251007T190000
DTSTAMP;VALUE=DATE-TIME:20260421T025837Z
UID:575c2363302347558f8616f92caa51fe@www.saojoaonepomuceno.mg.leg.br
CREATED;VALUE=DATE-TIME:20250930T130350Z
LAST-MODIFIED;VALUE=DATE-TIME:20250930T130358Z
LOCATION:Plenário da Câmara Municipal
URL:https://www.saojoaonepomuceno.mg.leg.br/institucional/eventos/event.20
 25-09-30.3706231969
END:VEVENT
BEGIN:VTIMEZONE
TZID:Brazil/East
X-LIC-LOCATION:Brazil/East
BEGIN:STANDARD
DTSTART;VALUE=DATE-TIME:20250215T230000
TZNAME:BRT
TZOFFSETFROM:-0200
TZOFFSETTO:-0300
END:STANDARD
END:VTIMEZONE
END:VCALENDAR
