BEGIN:VCALENDAR
VERSION:2.0
PRODID:-//Plone.org//NONSGML plone.app.event//EN
X-WR-TIMEZONE:Brazil/East
BEGIN:VEVENT
SUMMARY:Reunião Ordinária
DTSTART;TZID=Brazil/East;VALUE=DATE-TIME:20250819T190000
DTSTAMP;VALUE=DATE-TIME:20260420T232658Z
UID:b99ba08fc8264a5aaa3f9ef50f3d5576@www.saojoaonepomuceno.mg.leg.br
CREATED;VALUE=DATE-TIME:20250819T165828Z
LAST-MODIFIED;VALUE=DATE-TIME:20250819T165832Z
LOCATION:Câmara Municipal
URL:https://www.saojoaonepomuceno.mg.leg.br/institucional/eventos/event.20
 25-08-19.6309230671
END:VEVENT
BEGIN:VTIMEZONE
TZID:Brazil/East
X-LIC-LOCATION:Brazil/East
BEGIN:STANDARD
DTSTART;VALUE=DATE-TIME:20250215T230000
TZNAME:BRT
TZOFFSETFROM:-0200
TZOFFSETTO:-0300
END:STANDARD
END:VTIMEZONE
END:VCALENDAR
