BEGIN:VCALENDAR
VERSION:2.0
PRODID:-//Plone.org//NONSGML plone.app.event//EN
X-WR-TIMEZONE:Brazil/East
BEGIN:VEVENT
SUMMARY:Audiência Pública
DTSTART;TZID=Brazil/East;VALUE=DATE-TIME:20171017T190000
DTEND;TZID=Brazil/East;VALUE=DATE-TIME:20171017T210000
DTSTAMP;VALUE=DATE-TIME:20260425T124333Z
UID:687e703786b34254ae35f4d11943a263@saojoaonepomuceno.mg.leg.br
CREATED;VALUE=DATE-TIME:20171016T115827Z
DESCRIPTION:Renovação de Contrato de abastecimento e obras nas redes de 
 água e esgoto do Município
LAST-MODIFIED;VALUE=DATE-TIME:20171016T115845Z
LOCATION:Plenário da Câmara Municipal
URL:https://www.saojoaonepomuceno.mg.leg.br/institucional/eventos/audienci
 a-publica
END:VEVENT
BEGIN:VTIMEZONE
TZID:Brazil/East
X-LIC-LOCATION:Brazil/East
BEGIN:DAYLIGHT
DTSTART;VALUE=DATE-TIME:20171015T010000
TZNAME:BRST
TZOFFSETFROM:-0300
TZOFFSETTO:-0200
END:DAYLIGHT
END:VTIMEZONE
END:VCALENDAR
